BEGIN:VCALENDAR
VERSION:2.0
PRODID:icalendar-ruby
CALSCALE:GREGORIAN
BEGIN:VEVENT
DTSTAMP:20260420T105644Z
UID:3d9980aa-16bf-4c65-86fd-b370ec178535
DTSTART;TZID=Pacific/Auckland:20260419T110000
DTEND;TZID=Pacific/Auckland:20260419T113000
DESCRIPTION:Property ID# 599232
SUMMARY:Openhome for 90A Grace Road
END:VEVENT
END:VCALENDAR
