BEGIN:VCALENDAR
VERSION:2.0
PRODID:icalendar-ruby
CALSCALE:GREGORIAN
BEGIN:VEVENT
DTSTAMP:20260421T135118Z
UID:2c1b6ecd-38e8-4a14-9507-38f113f89e7f
DTSTART;VALUE=DATE:20260521
DESCRIPTION:Property ID# 607039\, Locatoin: Auction Rooms\, 247 Cameron Roa
 d\, Tauranga. Unless sold prior\, Time: 1:00PM
SUMMARY:Auction for 64B Sixteenth Avenue
END:VEVENT
END:VCALENDAR
