BEGIN:VCALENDAR
VERSION:2.0
PRODID:icalendar-ruby
CALSCALE:GREGORIAN
BEGIN:VEVENT
DTSTAMP:20260419T151100Z
UID:72f67509-5897-42e6-bfd1-f112f54e3ff8
DTSTART;VALUE=DATE:20260506
DESCRIPTION:Property ID# 606741\, Time: 3:00PM
SUMMARY:Auction for 250 Castlewold Drive
END:VEVENT
END:VCALENDAR
