BEGIN:VCALENDAR
VERSION:2.0
PRODID:icalendar-ruby
CALSCALE:GREGORIAN
BEGIN:VEVENT
DTSTAMP:20260420T153010Z
UID:5aa960ae-151d-4d00-9cc3-aa87a1f9e080
DTSTART;VALUE=DATE:20260514
DESCRIPTION:Property ID# 606277\, Locatoin: East Realty\, 293 Cameron Road\
 , Tauranga (Unless Sold Prior)\, Time: 12:00PM
SUMMARY:Auction for 23 Bertrowe Drive
END:VEVENT
END:VCALENDAR
