BEGIN:VCALENDAR
VERSION:2.0
PRODID:icalendar-ruby
CALSCALE:GREGORIAN
BEGIN:VEVENT
DTSTAMP:20260423T085300Z
UID:c479557f-cf6c-4302-89e6-10e35fdaaaa9
DTSTART;VALUE=DATE:20260318
DESCRIPTION:Property ID# 604772\, Time: 1:00PM
SUMMARY:Auction for 2 Townhead Crescent
END:VEVENT
END:VCALENDAR
