BEGIN:VCALENDAR
VERSION:2.0
PRODID:icalendar-ruby
CALSCALE:GREGORIAN
BEGIN:VEVENT
DTSTAMP:20260420T134705Z
UID:5ca3b72d-aede-49a4-a86a-6aa4904fb0e1
DTSTART;VALUE=DATE:20250716
DESCRIPTION:Property ID# 593945\, Locatoin: 247 Cameron Road\, Time: 1:00PM
SUMMARY:Auction for 
END:VEVENT
END:VCALENDAR
