BEGIN:VCALENDAR
VERSION:2.0
PRODID:icalendar-ruby
CALSCALE:GREGORIAN
BEGIN:VEVENT
DTSTAMP:20260422T000414Z
UID:e32c6034-54ea-4f2e-8a60-3a0ef98f4e6f
DTSTART;VALUE=DATE:20250604
DESCRIPTION:Property ID# 592856\, Time: 12:00PM
SUMMARY:Auction for 
END:VEVENT
END:VCALENDAR
