BEGIN:VCALENDAR
VERSION:2.0
PRODID:icalendar-ruby
CALSCALE:GREGORIAN
BEGIN:VEVENT
DTSTAMP:20260424T084703Z
UID:f277c9c5-3293-46b8-ac53-730494d19df1
DTSTART;VALUE=DATE:20250507
DESCRIPTION:Property ID# 591724\, Time: 12:00PM
SUMMARY:Auction for 
END:VEVENT
END:VCALENDAR
