BEGIN:VCALENDAR
VERSION:2.0
PRODID:icalendar-ruby
CALSCALE:GREGORIAN
BEGIN:VEVENT
DTSTAMP:20260420T093612Z
UID:e44a4395-246c-416d-9b58-29e6f21300cf
DTSTART;VALUE=DATE:20250402
DESCRIPTION:Property ID# 589475\, Locatoin: at 12:30pm (unless sold prior) 
 Harcourts Auction Rooms\, 1 Third Avenue\, Tauranga\, Time: 12:00PM
SUMMARY:Auction for 
END:VEVENT
END:VCALENDAR
