BEGIN:VCALENDAR
VERSION:2.0
PRODID:icalendar-ruby
CALSCALE:GREGORIAN
BEGIN:VEVENT
DTSTAMP:20260419T152406Z
UID:c06ec451-d3a3-46c4-8d54-1b5c26fca0ae
DTSTART;VALUE=DATE:20240314
DESCRIPTION:Property ID# 570744\, Locatoin: Auction rooms\, 247 Cameron Rd\
 , Tauranga \, Time: 1:00PM
SUMMARY:Auction for 
END:VEVENT
END:VCALENDAR
