BEGIN:VCALENDAR
VERSION:2.0
PRODID:icalendar-ruby
CALSCALE:GREGORIAN
BEGIN:VEVENT
DTSTAMP:20260421T102705Z
UID:9b49f412-9485-4de9-a0a3-8725f6c75d5d
DTSTART;VALUE=DATE:20230803
DESCRIPTION:Property ID# 559322\, Locatoin: Auction rooms\, 247 Cameron Rd\
 , Tauranga \, Time: 1:00PM
SUMMARY:Auction for 
END:VEVENT
END:VCALENDAR
