BEGIN:VCALENDAR
VERSION:2.0
PRODID:icalendar-ruby
CALSCALE:GREGORIAN
BEGIN:VEVENT
DTSTAMP:20260425T163617Z
UID:39e93b21-0281-4898-a30a-cd8dc8f47890
DTSTART;VALUE=DATE:20211208
DESCRIPTION:Property ID# 522578\, Locatoin: Bayleys Auction Room\, Ground F
 loor\, 247 Cameron Road\,Tauranga\, Time: 1:00PM
SUMMARY:Auction for 
END:VEVENT
END:VCALENDAR
