BEGIN:VCALENDAR
VERSION:2.0
PRODID:icalendar-ruby
CALSCALE:GREGORIAN
BEGIN:VEVENT
DTSTAMP:20260423T115623Z
UID:a6d7376d-f19f-4795-b80e-778cc79466ed
DTSTART;VALUE=DATE:20211202
DESCRIPTION:Property ID# 521312\, Locatoin: 247 Cameron Road (cnr Elizabeth
  Street)\, Tauranga (unless sold prior)\, Time: 1:00PM
SUMMARY:Auction for 
END:VEVENT
END:VCALENDAR
