BEGIN:VCALENDAR
VERSION:2.0
PRODID:icalendar-ruby
CALSCALE:GREGORIAN
BEGIN:VEVENT
DTSTAMP:20260422T114206Z
UID:39ccabb7-a496-4809-8acc-17e333a6a23f
DTSTART;VALUE=DATE:20211104
DESCRIPTION:Property ID# 519339\, Locatoin: Harcourts\, 1 Third Avenue\, Ta
 uranga\, Time: 11:30AM
SUMMARY:Auction for 
END:VEVENT
END:VCALENDAR
