BEGIN:VCALENDAR
VERSION:2.0
PRODID:icalendar-ruby
CALSCALE:GREGORIAN
BEGIN:VEVENT
DTSTAMP:20260421T015107Z
UID:037494ae-5752-488f-8c68-a28970192a1b
DTSTART;VALUE=DATE:20210805
DESCRIPTION:Property ID# 514067\, Locatoin: 247 Cameron Road (Unless Sold P
 rior)\, Time: 1:00PM
SUMMARY:Auction for 
END:VEVENT
END:VCALENDAR
