BEGIN:VCALENDAR
VERSION:2.0
PRODID:icalendar-ruby
CALSCALE:GREGORIAN
BEGIN:VEVENT
DTSTAMP:20260421T093109Z
UID:63677969-1f5b-4b4c-b6cb-a4a9199bfdeb
DTSTART;VALUE=DATE:20210422
DESCRIPTION:Property ID# 507192\, Locatoin: 247 Cameron Road\, AUCTION ROOM
 \, Time: 12:00PM
SUMMARY:Auction for 
END:VEVENT
END:VCALENDAR
