BEGIN:VCALENDAR
VERSION:2.0
PRODID:icalendar-ruby
CALSCALE:GREGORIAN
BEGIN:VEVENT
DTSTAMP:20260423T085201Z
UID:5eedb6fb-6f9d-4f01-9673-f22467c0a039
DTSTART;VALUE=DATE:20200227
DESCRIPTION:Property ID# 472142\, Locatoin: 247 Cameron Rd\, Tauranga\, Tim
 e: 1:00PM
SUMMARY:Auction for 
END:VEVENT
END:VCALENDAR
